BEGIN:VCALENDAR
VERSION:2.0
PRODID:-//Ridgedale Rod and Gun Club - ECPv6.15.17//NONSGML v1.0//EN
CALSCALE:GREGORIAN
METHOD:PUBLISH
X-WR-CALNAME:Ridgedale Rod and Gun Club
X-ORIGINAL-URL:https://ridgedale.net
X-WR-CALDESC:Events for Ridgedale Rod and Gun Club
REFRESH-INTERVAL;VALUE=DURATION:PT1H
X-Robots-Tag:noindex
X-PUBLISHED-TTL:PT1H
BEGIN:VTIMEZONE
TZID:America/Vancouver
BEGIN:DAYLIGHT
TZOFFSETFROM:-0800
TZOFFSETTO:-0700
TZNAME:PDT
DTSTART:20250309T100000
END:DAYLIGHT
BEGIN:STANDARD
TZOFFSETFROM:-0700
TZOFFSETTO:-0800
TZNAME:PST
DTSTART:20251102T090000
END:STANDARD
BEGIN:DAYLIGHT
TZOFFSETFROM:-0800
TZOFFSETTO:-0700
TZNAME:PDT
DTSTART:20260308T100000
END:DAYLIGHT
BEGIN:STANDARD
TZOFFSETFROM:-0700
TZOFFSETTO:-0800
TZNAME:PST
DTSTART:20261101T090000
END:STANDARD
BEGIN:DAYLIGHT
TZOFFSETFROM:-0800
TZOFFSETTO:-0700
TZNAME:PDT
DTSTART:20270314T100000
END:DAYLIGHT
BEGIN:STANDARD
TZOFFSETFROM:-0700
TZOFFSETTO:-0800
TZNAME:PST
DTSTART:20271107T090000
END:STANDARD
END:VTIMEZONE
BEGIN:VEVENT
DTSTART;TZID=America/Vancouver:20260502T090000
DTEND;TZID=America/Vancouver:20260502T130000
DTSTAMP:20260422T032622
CREATED:20260401T205612Z
LAST-MODIFIED:20260401T205612Z
UID:10004635-1777712400-1777726800@ridgedale.net
SUMMARY:Pistol/Trap Range - CLOSED
DESCRIPTION:H-SFU
URL:https://ridgedale.net/event/pistol-trap-range-closed-40/
LOCATION:Ridgedale Rod & Gun Club\, 35655 Harris Road\, Abbotsford\, British Columbia\, V3G 1R7\, Canada
CATEGORIES:Pistol,Range Closure,Shotgun
END:VEVENT
BEGIN:VEVENT
DTSTART;TZID=America/Vancouver:20260503T090000
DTEND;TZID=America/Vancouver:20260503T130000
DTSTAMP:20260422T032622
CREATED:20251119T213809Z
LAST-MODIFIED:20251124T184638Z
UID:10002465-1777798800-1777813200@ridgedale.net
SUMMARY:TRAP GAMES Shoot
DESCRIPTION:Join the Trap shooters on the FIRST SUNDAY of each month for some laughs and participate in our Trap Shooting Games event. \nGames likes ‘Annie Oakley’ or ‘Bushwacker’ are some of our favorites. \nEntry is $5 per ticket for each game – come on out and join the fun!
URL:https://ridgedale.net/event/sunday-trap-games-shoot/2026-05-03/
LOCATION:Shotgun Range
CATEGORIES:Shotgun
END:VEVENT
BEGIN:VEVENT
DTSTART;TZID=America/Vancouver:20260503T110000
DTEND;TZID=America/Vancouver:20260503T150000
DTSTAMP:20260422T032622
CREATED:20251207T211223Z
LAST-MODIFIED:20251207T211223Z
UID:10000015-1777806000-1777820400@ridgedale.net
SUMMARY:RIMFIRE Competition - Rifle Range
DESCRIPTION:Competition Rimfire Rifle \nFirst Sunday of each month from 11:00 AM – 3:00 PM at the Rifle Range. \nSight-in starts at 11:00 AM and the competition events start at 12:00 noon. \nThere are 4 Competition Classifications: Unlimited / Hunting Rifle / Semi-auto / 17 HMR\n\nEntry fee is $10 per event\, and targets are supplied with entry. \nThe Club can supply both rifles and ammunition (for a fee) or participants may bring their own equipment. \nYou DO NOT need to be a Ridgedale Club member to participate\, and youth shooters are welcome to attend with a responsible adult to supervise them. \n‘Competition Firearm Experience’ for New Shooters\nNew shooters have the opportunity to experience using a precision\, competition-level rifle after the competitive events are finished. To qualify\, new shooters should have previously participated in the Rimfire for Beginners\, or the Rifle for Beginners programs to be familiar with proper firearms handling etiquette. \nNew shooters will be supervised and coached by the owners of the competition-level firearm and will be supplied competition-grade ammunition to use. \n‘Competition Firearm Experience’ entry fee is $20 and competition-grade ammo is $5 for 10 rounds. \nFor more information contact us at rifle@ridgedale.net
URL:https://ridgedale.net/event/100-yard-rimfire-rifle-range-3/2026-05-03/
LOCATION:Ridgedale Rod & Gun Club\, 35655 Harris Road\, Abbotsford\, British Columbia\, V3G 1R7\, Canada
CATEGORIES:Rifle
END:VEVENT
BEGIN:VEVENT
DTSTART;TZID=America/Vancouver:20260504T180000
DTEND;TZID=America/Vancouver:20260504T200000
DTSTAMP:20260422T032622
CREATED:20251022T032446Z
LAST-MODIFIED:20251124T175558Z
UID:10001449-1777917600-1777924800@ridgedale.net
SUMMARY:PISTOL Night
DESCRIPTION:Join us on PISTOL Night every Monday evening from 6:00pm to 8:00pm \nMembers and non-members are welcome – no PAL or RPAL is required to join us! \nMembers can bring their pistols (all calibers) from .22LR to .45ACP are welcome. \nEntry and targets – $20\nPistol rental available – $10\n.22LR ammo available – $10 per 50 rounds. \nFor more  information contact us at pistol@ridgedale.net
URL:https://ridgedale.net/event/pistol-night/2026-05-04/
LOCATION:Pistol Range
CATEGORIES:Pistol
ORGANIZER;CN="Pistol Club":MAILTO:pistol@ridgedale.net
END:VEVENT
BEGIN:VEVENT
DTSTART;TZID=America/Vancouver:20260505T080000
DTEND;TZID=America/Vancouver:20260505T150000
DTSTAMP:20260422T032622
CREATED:20260211T233632Z
LAST-MODIFIED:20260211T233632Z
UID:10003709-1777968000-1777993200@ridgedale.net
SUMMARY:(A) Pistol/Trap Range - CLOSED
DESCRIPTION:
URL:https://ridgedale.net/event/a-pistol-trap-range-closed-8/
LOCATION:Ridgedale Rod & Gun Club\, 35655 Harris Road\, Abbotsford\, British Columbia\, V3G 1R7\, Canada
CATEGORIES:Pistol,Range Closure,Shotgun
END:VEVENT
BEGIN:VEVENT
DTSTART;TZID=America/Vancouver:20260505T160000
DTEND;TZID=America/Vancouver:20260505T180000
DTSTAMP:20260422T032622
CREATED:20251022T032654Z
LAST-MODIFIED:20251124T184949Z
UID:10000155-1777996800-1778004000@ridgedale.net
SUMMARY:TRAP Night
DESCRIPTION:Join our experienced Trap shooters for weekly practice to keep your skills sharp or prepare for the next Trap competition event. \nShooters attending must have their own gun\, eye & ear protection\, have experience shooting Trap and understand proper Trap etiquette. \nPractice starts at 4:00pm and ends at 6:00pm. \nIf you are new to Trap shooting you can join us on the 2nd Sunday of each  month to attend our ‘Shotgun for Beginners’ class to learn shotgun handling and Trap shooting etiquette. \nIf  you have any questions you can contact us at: Trap@ridgedale.net.
URL:https://ridgedale.net/event/trap-practice-night/2026-05-05/
LOCATION:Shotgun Range
CATEGORIES:Shotgun
ORGANIZER;CN="Trap Club":MAILTO:trap@ridgedale.net
END:VEVENT
BEGIN:VEVENT
DTSTART;TZID=America/Vancouver:20260505T160000
DTEND;TZID=America/Vancouver:20260505T190000
DTSTAMP:20260422T032622
CREATED:20251116T223828Z
LAST-MODIFIED:20260317T183558Z
UID:10004352-1777996800-1778007600@ridgedale.net
SUMMARY:RIFLE Night
DESCRIPTION:Weekly bench time for rifle practice or to get your rifle sighted-in for hunting or competition events. \nYou DO NOT need to be a Ridgedale Club member to attend – Ridgedale members attend for free but non-member guest fees are $25.00 and guests will have to call or email in advance to ensure a spot is booked for you. \nGuests are limited to 2 rifles and 90 minutes of bench time to ensure all shooters get access to the range. \nAdditional technical help is available from our experienced\, competition-level Rifle Club Chair.\nInstallation of new scopes is available for $25 and sight-in of scopes is available for $15.\n.\nRifle Night is every Tuesday afternoon/evening starting at 2:00pm but is limited by the light conditions and ends at sundown. \nSummer daylight allows for extended shooting times\, but winter hours are limited so get to the range early to ensure you get a chance shoot. \nFor more information contact us anytime at: rifle@ridgedale.net
URL:https://ridgedale.net/event/rifle-night/2026-05-05/
LOCATION:Rifle Range
CATEGORIES:Rifle
END:VEVENT
BEGIN:VEVENT
DTSTART;TZID=America/Vancouver:20260506T190000
DTEND;TZID=America/Vancouver:20260506T210000
DTSTAMP:20260422T032622
CREATED:20251119T204649Z
LAST-MODIFIED:20251121T205732Z
UID:10002284-1778094000-1778101200@ridgedale.net
SUMMARY:EXECUTIVE MEETING - All Ranges Closed
DESCRIPTION:
URL:https://ridgedale.net/event/executive-meeting-all-ranges-closed/2026-05-06/
LOCATION:Ridgedale Rod & Gun Club\, 35655 Harris Road\, Abbotsford\, British Columbia\, V3G 1R7\, Canada
CATEGORIES:Range Closure
END:VEVENT
BEGIN:VEVENT
DTSTART;TZID=America/Vancouver:20260507T160000
DTEND;TZID=America/Vancouver:20260507T183000
DTSTAMP:20260422T032622
CREATED:20260306T215542Z
LAST-MODIFIED:20260306T215542Z
UID:10004300-1778169600-1778178600@ridgedale.net
SUMMARY:Pistol/Trap Range - CLOSED
DESCRIPTION:
URL:https://ridgedale.net/event/pistol-trap-range-closed-20/
LOCATION:Ridgedale Rod & Gun Club\, 35655 Harris Road\, Abbotsford\, British Columbia\, V3G 1R7\, Canada
CATEGORIES:Pistol,Range Closure,Shotgun
END:VEVENT
BEGIN:VEVENT
DTSTART;TZID=America/Vancouver:20260507T180000
DTEND;TZID=America/Vancouver:20260507T200000
DTSTAMP:20260422T032622
CREATED:20251116T223158Z
LAST-MODIFIED:20251124T175753Z
UID:10002037-1778176800-1778184000@ridgedale.net
SUMMARY:ARCHERY Night
DESCRIPTION:Join Ridgedale’s archery enthusiasts every week to practice. \nArchery target fees is $10 per shooter. \nBring your own equipment or rent our quality archery equipment for only $10. \nNon-members are welcome attend and pay a $10 entry fee for access to the range. \nWe get together every Thursday evening from 6:00pm until 8:00pm or dusk\, whichever is first. \nFor more information contact us anytime at: archery@ridgedale.net
URL:https://ridgedale.net/event/archery-night-2/2026-05-07/
LOCATION:Archery Range
CATEGORIES:Archery
END:VEVENT
BEGIN:VEVENT
DTSTART;TZID=America/Vancouver:20260507T180000
DTEND;TZID=America/Vancouver:20260507T200000
DTSTAMP:20260422T032622
CREATED:20260331T204915Z
LAST-MODIFIED:20260331T204915Z
UID:10004618-1778176800-1778184000@ridgedale.net
SUMMARY:ALL SHOOTING RANGES CLOSED
DESCRIPTION:
URL:https://ridgedale.net/event/all-shooting-ranges-closed-6/
LOCATION:Ridgedale Rod & Gun Club\, 35655 Harris Road\, Abbotsford\, British Columbia\, V3G 1R7\, Canada
END:VEVENT
BEGIN:VEVENT
DTSTART;TZID=America/Vancouver:20260509T080000
DTEND;TZID=America/Vancouver:20260509T170000
DTSTAMP:20260422T032622
CREATED:20251121T203252Z
LAST-MODIFIED:20251121T203716Z
UID:10003000-1778313600-1778346000@ridgedale.net
SUMMARY:LADIES DAY Event
DESCRIPTION:Ladies\, come out for a full day of fun. \nLearn how to shoot a pistol\, rifle\, shotgun and a bow and arrow. \nWe supply hearing and eye protection\, firearms rental\, ammunition\, one-on-one mentors and lunch. \nCheck mark this off your bucket list.
URL:https://ridgedale.net/event/ladies-day-event/
LOCATION:Ridgedale Rod & Gun Club\, 35655 Harris Road\, Abbotsford\, British Columbia\, V3G 1R7\, Canada
CATEGORIES:Archery,Ladies,Pistol,Range Closure,Rifle,Shotgun
END:VEVENT
BEGIN:VEVENT
DTSTART;TZID=America/Vancouver:20260509T080000
DTEND;TZID=America/Vancouver:20260509T170000
DTSTAMP:20260422T032622
CREATED:20251122T013720Z
LAST-MODIFIED:20251122T013937Z
UID:10003520-1778313600-1778346000@ridgedale.net
SUMMARY:RANGES CLOSED
DESCRIPTION:All Ranges Closed For Ladies Day.
URL:https://ridgedale.net/event/ranges-closed-22/
LOCATION:Ridgedale Rod & Gun Club\, 35655 Harris Road\, Abbotsford\, British Columbia\, V3G 1R7\, Canada
CATEGORIES:Ladies,Pistol,Range Closure,Rifle,Shotgun
END:VEVENT
BEGIN:VEVENT
DTSTART;TZID=America/Vancouver:20260510T080000
DTEND;TZID=America/Vancouver:20260510T140000
DTSTAMP:20260422T032622
CREATED:20251119T232127Z
LAST-MODIFIED:20260412T172815Z
UID:10002596-1778400000-1778421600@ridgedale.net
SUMMARY:Archery/Rifle/Pistol/Trap Ranges - CLOSED
DESCRIPTION:
URL:https://ridgedale.net/event/rifle-pistol-trap-ranges-closed/2026-05-10/
LOCATION:Ridgedale Rod & Gun Club\, 35655 Harris Road\, Abbotsford\, British Columbia\, V3G 1R7\, Canada
CATEGORIES:Pistol,Range Closure,Rifle,Shotgun
END:VEVENT
BEGIN:VEVENT
DTSTART;TZID=America/Vancouver:20260510T100000
DTEND;TZID=America/Vancouver:20260510T140000
DTSTAMP:20260422T032622
CREATED:20260111T202708Z
LAST-MODIFIED:20260111T202708Z
UID:10002526-1778407200-1778421600@ridgedale.net
SUMMARY:RIFLE for Beginners
DESCRIPTION:RIFLE For Beginners – 10:00am until 1:00pm held on the Rifle Range. \nRegistration is at 9:30am. \nBeginner friendly .22LR rifle shooter for first-time shooters to learn how to handle and shoot .22LR rifles. \nFor more information contact us at rifle@ridgedale.net
URL:https://ridgedale.net/event/1045-2/2026-05-10/
LOCATION:Ridgedale Rod & Gun Club\, 35655 Harris Road\, Abbotsford\, British Columbia\, V3G 1R7\, Canada
CATEGORIES:Ladies,Rifle,Youth
ORGANIZER;CN="Rifle Club":MAILTO:rifle@ridgedale.net
END:VEVENT
BEGIN:VEVENT
DTSTART;TZID=America/Vancouver:20260510T100000
DTEND;TZID=America/Vancouver:20260510T140000
DTSTAMP:20260422T032622
CREATED:20260111T202824Z
LAST-MODIFIED:20260111T202824Z
UID:10000784-1778407200-1778421600@ridgedale.net
SUMMARY:SHOTGUN for Beginners
DESCRIPTION:SHOTGUN For Beginners – 10:00am until 1:00pm held on the Trap Ranges. \nRegistration opens at 9:30am. \nBeginner friendly shotgun training for first-time shooters to learn how to handle and shoot 12-gauge shotguns at clay targets. \nShotgun rental is $10 – Ammunition is $16 per box of 25 shells – Targets are $10 per round of 25 targets. \nFor more information contact us at trap@ridgedale.net
URL:https://ridgedale.net/event/shotgun-for-beginners-2/2026-05-10/
LOCATION:Ridgedale Rod & Gun Club\, 35655 Harris Road\, Abbotsford\, British Columbia\, V3G 1R7\, Canada
CATEGORIES:Ladies,Shotgun,Youth
ORGANIZER;CN="Trap Club":MAILTO:trap@ridgedale.net
END:VEVENT
BEGIN:VEVENT
DTSTART;TZID=America/Vancouver:20260510T100000
DTEND;TZID=America/Vancouver:20260510T140000
DTSTAMP:20260422T032622
CREATED:20260413T203910Z
LAST-MODIFIED:20260413T204310Z
UID:10000665-1778407200-1778421600@ridgedale.net
SUMMARY:PISTOL for Beginners
DESCRIPTION:PISTOL For Beginners – 10:00am until 1:00pm held on the 25M Pistol range. \nRegistration opens at 9:30am. \nBeginner friendly pistol training for first-time shooters to learn how to handle and shoot .22lr rimfire pistols. \nPistol rental is $10 – Ammunition is $10 per 50 rounds for .22LR rimfire ammunition – targets are supplied. \nFor more information contact us at pistol@ridgedale.net
URL:https://ridgedale.net/event/pistol-for-beginners-3/2026-05-10/
LOCATION:Ridgedale Rod & Gun Club\, 35655 Harris Road\, Abbotsford\, British Columbia\, V3G 1R7\, Canada
CATEGORIES:Ladies,Pistol,Youth
ORGANIZER;CN="Pistol Club":MAILTO:pistol@ridgedale.net
END:VEVENT
BEGIN:VEVENT
DTSTART;TZID=America/Vancouver:20260511T180000
DTEND;TZID=America/Vancouver:20260511T200000
DTSTAMP:20260422T032622
CREATED:20251022T032446Z
LAST-MODIFIED:20251124T175558Z
UID:10001450-1778522400-1778529600@ridgedale.net
SUMMARY:PISTOL Night
DESCRIPTION:Join us on PISTOL Night every Monday evening from 6:00pm to 8:00pm \nMembers and non-members are welcome – no PAL or RPAL is required to join us! \nMembers can bring their pistols (all calibers) from .22LR to .45ACP are welcome. \nEntry and targets – $20\nPistol rental available – $10\n.22LR ammo available – $10 per 50 rounds. \nFor more  information contact us at pistol@ridgedale.net
URL:https://ridgedale.net/event/pistol-night/2026-05-11/
LOCATION:Pistol Range
CATEGORIES:Pistol
ORGANIZER;CN="Pistol Club":MAILTO:pistol@ridgedale.net
END:VEVENT
BEGIN:VEVENT
DTSTART;TZID=America/Vancouver:20260512T160000
DTEND;TZID=America/Vancouver:20260512T180000
DTSTAMP:20260422T032622
CREATED:20251022T032654Z
LAST-MODIFIED:20251124T184949Z
UID:10000156-1778601600-1778608800@ridgedale.net
SUMMARY:TRAP Night
DESCRIPTION:Join our experienced Trap shooters for weekly practice to keep your skills sharp or prepare for the next Trap competition event. \nShooters attending must have their own gun\, eye & ear protection\, have experience shooting Trap and understand proper Trap etiquette. \nPractice starts at 4:00pm and ends at 6:00pm. \nIf you are new to Trap shooting you can join us on the 2nd Sunday of each  month to attend our ‘Shotgun for Beginners’ class to learn shotgun handling and Trap shooting etiquette. \nIf  you have any questions you can contact us at: Trap@ridgedale.net.
URL:https://ridgedale.net/event/trap-practice-night/2026-05-12/
LOCATION:Shotgun Range
CATEGORIES:Shotgun
ORGANIZER;CN="Trap Club":MAILTO:trap@ridgedale.net
END:VEVENT
BEGIN:VEVENT
DTSTART;TZID=America/Vancouver:20260512T160000
DTEND;TZID=America/Vancouver:20260512T190000
DTSTAMP:20260422T032622
CREATED:20251116T223828Z
LAST-MODIFIED:20260317T183558Z
UID:10004353-1778601600-1778612400@ridgedale.net
SUMMARY:RIFLE Night
DESCRIPTION:Weekly bench time for rifle practice or to get your rifle sighted-in for hunting or competition events. \nYou DO NOT need to be a Ridgedale Club member to attend – Ridgedale members attend for free but non-member guest fees are $25.00 and guests will have to call or email in advance to ensure a spot is booked for you. \nGuests are limited to 2 rifles and 90 minutes of bench time to ensure all shooters get access to the range. \nAdditional technical help is available from our experienced\, competition-level Rifle Club Chair.\nInstallation of new scopes is available for $25 and sight-in of scopes is available for $15.\n.\nRifle Night is every Tuesday afternoon/evening starting at 2:00pm but is limited by the light conditions and ends at sundown. \nSummer daylight allows for extended shooting times\, but winter hours are limited so get to the range early to ensure you get a chance shoot. \nFor more information contact us anytime at: rifle@ridgedale.net
URL:https://ridgedale.net/event/rifle-night/2026-05-12/
LOCATION:Rifle Range
CATEGORIES:Rifle
END:VEVENT
BEGIN:VEVENT
DTSTART;TZID=America/Vancouver:20260513T080000
DTEND;TZID=America/Vancouver:20260513T150000
DTSTAMP:20260422T032622
CREATED:20251121T203854Z
LAST-MODIFIED:20251121T203854Z
UID:10003001-1778659200-1778684400@ridgedale.net
SUMMARY:(A) Pistol/Trap Range - CLOSED
DESCRIPTION:
URL:https://ridgedale.net/event/a-pistol-trap-range-closed-27/
LOCATION:Ridgedale Rod & Gun Club\, 35655 Harris Road\, Abbotsford\, British Columbia\, V3G 1R7\, Canada
CATEGORIES:Range Closure
END:VEVENT
BEGIN:VEVENT
DTSTART;TZID=America/Vancouver:20260513T190000
DTEND;TZID=America/Vancouver:20260513T210000
DTSTAMP:20260422T032622
CREATED:20251121T003111Z
LAST-MODIFIED:20251121T003111Z
UID:10002731-1778698800-1778706000@ridgedale.net
SUMMARY:GENERAL MEETING - All Ranges Closed
DESCRIPTION:
URL:https://ridgedale.net/event/general-meeting-all-ranges-closed/
LOCATION:Ridgedale Rod & Gun Club\, 35655 Harris Road\, Abbotsford\, British Columbia\, V3G 1R7\, Canada
CATEGORIES:Pistol,Range Closure,Rifle,Shotgun
END:VEVENT
BEGIN:VEVENT
DTSTART;TZID=America/Vancouver:20260514T080000
DTEND;TZID=America/Vancouver:20260514T150000
DTSTAMP:20260422T032622
CREATED:20251121T203908Z
LAST-MODIFIED:20260317T193607Z
UID:10003002-1778745600-1778770800@ridgedale.net
SUMMARY:(V) Pistol/Trap Range - CLOSED
DESCRIPTION:
URL:https://ridgedale.net/event/a-pistol-trap-range-closed-28/
LOCATION:Ridgedale Rod & Gun Club\, 35655 Harris Road\, Abbotsford\, British Columbia\, V3G 1R7\, Canada
CATEGORIES:Range Closure
END:VEVENT
BEGIN:VEVENT
DTSTART;TZID=America/Vancouver:20260514T080000
DTEND;TZID=America/Vancouver:20260514T150000
DTSTAMP:20260422T032622
CREATED:20260317T193735Z
LAST-MODIFIED:20260317T193735Z
UID:10004607-1778745600-1778770800@ridgedale.net
SUMMARY:(A) Rifle Range - CLOSED
DESCRIPTION:
URL:https://ridgedale.net/event/a-rifle-range-closed/
LOCATION:Ridgedale Rod & Gun Club\, 35655 Harris Road\, Abbotsford\, British Columbia\, V3G 1R7\, Canada
END:VEVENT
BEGIN:VEVENT
DTSTART;TZID=America/Vancouver:20260514T160000
DTEND;TZID=America/Vancouver:20260514T183000
DTSTAMP:20260422T032622
CREATED:20260306T215557Z
LAST-MODIFIED:20260306T215557Z
UID:10004301-1778774400-1778783400@ridgedale.net
SUMMARY:Pistol/Trap Range - CLOSED
DESCRIPTION:
URL:https://ridgedale.net/event/pistol-trap-range-closed-21/
LOCATION:Ridgedale Rod & Gun Club\, 35655 Harris Road\, Abbotsford\, British Columbia\, V3G 1R7\, Canada
CATEGORIES:Pistol,Range Closure,Shotgun
END:VEVENT
BEGIN:VEVENT
DTSTART;TZID=America/Vancouver:20260514T180000
DTEND;TZID=America/Vancouver:20260514T200000
DTSTAMP:20260422T032622
CREATED:20251116T223158Z
LAST-MODIFIED:20251124T175753Z
UID:10002038-1778781600-1778788800@ridgedale.net
SUMMARY:ARCHERY Night
DESCRIPTION:Join Ridgedale’s archery enthusiasts every week to practice. \nArchery target fees is $10 per shooter. \nBring your own equipment or rent our quality archery equipment for only $10. \nNon-members are welcome attend and pay a $10 entry fee for access to the range. \nWe get together every Thursday evening from 6:00pm until 8:00pm or dusk\, whichever is first. \nFor more information contact us anytime at: archery@ridgedale.net
URL:https://ridgedale.net/event/archery-night-2/2026-05-14/
LOCATION:Archery Range
CATEGORIES:Archery
END:VEVENT
BEGIN:VEVENT
DTSTART;TZID=America/Vancouver:20260514T180000
DTEND;TZID=America/Vancouver:20260514T200000
DTSTAMP:20260422T032622
CREATED:20260331T204926Z
LAST-MODIFIED:20260331T204926Z
UID:10004619-1778781600-1778788800@ridgedale.net
SUMMARY:ALL SHOOTING RANGES CLOSED
DESCRIPTION:
URL:https://ridgedale.net/event/all-shooting-ranges-closed-7/
LOCATION:Ridgedale Rod & Gun Club\, 35655 Harris Road\, Abbotsford\, British Columbia\, V3G 1R7\, Canada
END:VEVENT
BEGIN:VEVENT
DTSTART;TZID=America/Vancouver:20260516T090000
DTEND;TZID=America/Vancouver:20260516T173000
DTSTAMP:20260422T032622
CREATED:20251121T204050Z
LAST-MODIFIED:20251121T204050Z
UID:10003005-1778922000-1778952600@ridgedale.net
SUMMARY:Hall Rental - Courses
DESCRIPTION:
URL:https://ridgedale.net/event/hall-rental-courses-7/
LOCATION:Ridgedale Rod & Gun Club\, 35655 Harris Road\, Abbotsford\, British Columbia\, V3G 1R7\, Canada
END:VEVENT
BEGIN:VEVENT
DTSTART;TZID=America/Vancouver:20260517T090000
DTEND;TZID=America/Vancouver:20260517T173000
DTSTAMP:20260422T032622
CREATED:20251121T204104Z
LAST-MODIFIED:20251121T204104Z
UID:10003006-1779008400-1779039000@ridgedale.net
SUMMARY:Hall Rental - Courses
DESCRIPTION:
URL:https://ridgedale.net/event/hall-rental-courses-8/
LOCATION:Ridgedale Rod & Gun Club\, 35655 Harris Road\, Abbotsford\, British Columbia\, V3G 1R7\, Canada
END:VEVENT
BEGIN:VEVENT
DTSTART;TZID=America/Vancouver:20260518T180000
DTEND;TZID=America/Vancouver:20260518T200000
DTSTAMP:20260422T032622
CREATED:20251022T032446Z
LAST-MODIFIED:20251124T175558Z
UID:10001451-1779127200-1779134400@ridgedale.net
SUMMARY:PISTOL Night
DESCRIPTION:Join us on PISTOL Night every Monday evening from 6:00pm to 8:00pm \nMembers and non-members are welcome – no PAL or RPAL is required to join us! \nMembers can bring their pistols (all calibers) from .22LR to .45ACP are welcome. \nEntry and targets – $20\nPistol rental available – $10\n.22LR ammo available – $10 per 50 rounds. \nFor more  information contact us at pistol@ridgedale.net
URL:https://ridgedale.net/event/pistol-night/2026-05-18/
LOCATION:Pistol Range
CATEGORIES:Pistol
ORGANIZER;CN="Pistol Club":MAILTO:pistol@ridgedale.net
END:VEVENT
END:VCALENDAR