BEGIN:VCALENDAR
VERSION:2.0
PRODID:-//Ridgedale Rod and Gun Club - ECPv6.15.17//NONSGML v1.0//EN
CALSCALE:GREGORIAN
METHOD:PUBLISH
X-ORIGINAL-URL:https://ridgedale.net
X-WR-CALDESC:Events for Ridgedale Rod and Gun Club
REFRESH-INTERVAL;VALUE=DURATION:PT1H
X-Robots-Tag:noindex
X-PUBLISHED-TTL:PT1H
BEGIN:VTIMEZONE
TZID:America/Vancouver
BEGIN:DAYLIGHT
TZOFFSETFROM:-0800
TZOFFSETTO:-0700
TZNAME:PDT
DTSTART:20250309T100000
END:DAYLIGHT
BEGIN:STANDARD
TZOFFSETFROM:-0700
TZOFFSETTO:-0800
TZNAME:PST
DTSTART:20251102T090000
END:STANDARD
BEGIN:DAYLIGHT
TZOFFSETFROM:-0800
TZOFFSETTO:-0700
TZNAME:PDT
DTSTART:20260308T100000
END:DAYLIGHT
BEGIN:STANDARD
TZOFFSETFROM:-0700
TZOFFSETTO:-0800
TZNAME:PST
DTSTART:20261101T090000
END:STANDARD
BEGIN:DAYLIGHT
TZOFFSETFROM:-0800
TZOFFSETTO:-0700
TZNAME:PDT
DTSTART:20270314T100000
END:DAYLIGHT
BEGIN:STANDARD
TZOFFSETFROM:-0700
TZOFFSETTO:-0800
TZNAME:PST
DTSTART:20271107T090000
END:STANDARD
END:VTIMEZONE
BEGIN:VEVENT
DTSTART;TZID=America/Vancouver:20260301T080000
DTEND;TZID=America/Vancouver:20260301T200000
DTSTAMP:20260424T023800
CREATED:20260129T224401Z
LAST-MODIFIED:20260129T224401Z
UID:10003667-1772352000-1772395200@ridgedale.net
SUMMARY:OFFICE CLOSED
DESCRIPTION:
URL:https://ridgedale.net/event/office-closed-28/
LOCATION:Ridgedale Rod & Gun Club\, 35655 Harris Road\, Abbotsford\, British Columbia\, V3G 1R7\, Canada
END:VEVENT
BEGIN:VEVENT
DTSTART;TZID=America/Vancouver:20260301T090000
DTEND;TZID=America/Vancouver:20260301T130000
DTSTAMP:20260424T023800
CREATED:20251119T213809Z
LAST-MODIFIED:20251124T184638Z
UID:10002463-1772355600-1772370000@ridgedale.net
SUMMARY:TRAP GAMES Shoot
DESCRIPTION:Join the Trap shooters on the FIRST SUNDAY of each month for some laughs and participate in our Trap Shooting Games event. \nGames likes ‘Annie Oakley’ or ‘Bushwacker’ are some of our favorites. \nEntry is $5 per ticket for each game – come on out and join the fun!
URL:https://ridgedale.net/event/sunday-trap-games-shoot/2026-03-01/
LOCATION:Shotgun Range
CATEGORIES:Shotgun
END:VEVENT
BEGIN:VEVENT
DTSTART;TZID=America/Vancouver:20260301T110000
DTEND;TZID=America/Vancouver:20260301T150000
DTSTAMP:20260424T023800
CREATED:20251207T211223Z
LAST-MODIFIED:20260424T002929Z
UID:10000013-1772362800-1772377200@ridgedale.net
SUMMARY:RIMFIRE Competition - Rifle Range
DESCRIPTION:Competition Rimfire Rifle \nFirst Sunday of each month from 11:00 AM – 3:00 PM at the Rifle Range. \nSight-in starts at 11:00 AM and the competition events start at 12:00 noon. \nThere are 4 Competition Classifications: Unlimited / Hunting Rifle / Semi-auto / 17 HMR\n\nEntry fee is $10 per event\, and targets are supplied with entry. \nThe Club can supply both rifles and ammunition (for a fee) or participants may bring their own equipment. \nYou DO NOT need to be a Ridgedale Club member to participate\, and youth shooters are welcome to attend with a responsible adult to supervise them. \n‘Competition Firearm Experience’ for New Shooters\nNew shooters have the opportunity to experience using a precision\, competition-level rifle after the competitive events are finished. To qualify\, new shooters should have previously participated in the Rimfire for Beginners\, or the Rifle for Beginners programs to be familiar with proper firearms handling etiquette. \nNew shooters will be supervised and coached by the owners of the competition-level firearm and will be supplied competition-grade ammunition to use. \n‘Competition Firearm Experience’ entry fee is $20 and competition-grade ammo is $5 for 10 rounds. \nFor more information contact us at rifle@ridgedale.net
URL:https://ridgedale.net/event/100-yard-rimfire-rifle-range-3/2026-03-01/
LOCATION:Ridgedale Rod & Gun Club\, 35655 Harris Road\, Abbotsford\, British Columbia\, V3G 1R7\, Canada
CATEGORIES:Rifle
END:VEVENT
BEGIN:VEVENT
DTSTART;TZID=America/Vancouver:20260302T080000
DTEND;TZID=America/Vancouver:20260302T200000
DTSTAMP:20260424T023800
CREATED:20260129T224701Z
LAST-MODIFIED:20260129T224701Z
UID:10003674-1772438400-1772481600@ridgedale.net
SUMMARY:OFFICE CLOSED
DESCRIPTION:
URL:https://ridgedale.net/event/office-closed-34/
LOCATION:Ridgedale Rod & Gun Club\, 35655 Harris Road\, Abbotsford\, British Columbia\, V3G 1R7\, Canada
END:VEVENT
BEGIN:VEVENT
DTSTART;TZID=America/Vancouver:20260302T180000
DTEND;TZID=America/Vancouver:20260302T200000
DTSTAMP:20260424T023800
CREATED:20251022T032446Z
LAST-MODIFIED:20251124T175558Z
UID:10001440-1772474400-1772481600@ridgedale.net
SUMMARY:PISTOL Night
DESCRIPTION:Join us on PISTOL Night every Monday evening from 6:00pm to 8:00pm \nMembers and non-members are welcome – no PAL or RPAL is required to join us! \nMembers can bring their pistols (all calibers) from .22LR to .45ACP are welcome. \nEntry and targets – $20\nPistol rental available – $10\n.22LR ammo available – $10 per 50 rounds. \nFor more  information contact us at pistol@ridgedale.net
URL:https://ridgedale.net/event/pistol-night/2026-03-02/
LOCATION:Pistol Range
CATEGORIES:Pistol
ORGANIZER;CN="Pistol Club":MAILTO:pistol@ridgedale.net
END:VEVENT
BEGIN:VEVENT
DTSTART;TZID=America/Vancouver:20260303T080000
DTEND;TZID=America/Vancouver:20260303T150000
DTSTAMP:20260424T023800
CREATED:20251121T013210Z
LAST-MODIFIED:20251121T013210Z
UID:10002808-1772524800-1772550000@ridgedale.net
SUMMARY:(V) Rifle Range - Closed
DESCRIPTION:
URL:https://ridgedale.net/event/v-rifle-range-closed-10/
LOCATION:Ridgedale Rod & Gun Club\, 35655 Harris Road\, Abbotsford\, British Columbia\, V3G 1R7\, Canada
CATEGORIES:Range Closure
END:VEVENT
BEGIN:VEVENT
DTSTART;TZID=America/Vancouver:20260303T080000
DTEND;TZID=America/Vancouver:20260303T150000
DTSTAMP:20260424T023800
CREATED:20251121T043700Z
LAST-MODIFIED:20251121T043700Z
UID:10002979-1772524800-1772550000@ridgedale.net
SUMMARY:(A) Pistol/Trap Range - CLOSED
DESCRIPTION:
URL:https://ridgedale.net/event/a-pistol-trap-range-closed-19/
LOCATION:Ridgedale Rod & Gun Club\, 35655 Harris Road\, Abbotsford\, British Columbia\, V3G 1R7\, Canada
CATEGORIES:Range Closure
END:VEVENT
BEGIN:VEVENT
DTSTART;TZID=America/Vancouver:20260303T103000
DTEND;TZID=America/Vancouver:20260303T173000
DTSTAMP:20260424T023800
CREATED:20260129T225015Z
LAST-MODIFIED:20260129T225015Z
UID:10003681-1772533800-1772559000@ridgedale.net
SUMMARY:OFFICE OPEN
DESCRIPTION:
URL:https://ridgedale.net/event/office-open-52/
LOCATION:Ridgedale Rod & Gun Club\, 35655 Harris Road\, Abbotsford\, British Columbia\, V3G 1R7\, Canada
END:VEVENT
BEGIN:VEVENT
DTSTART;TZID=America/Vancouver:20260303T160000
DTEND;TZID=America/Vancouver:20260303T180000
DTSTAMP:20260424T023800
CREATED:20251022T032654Z
LAST-MODIFIED:20251124T184949Z
UID:10000146-1772553600-1772560800@ridgedale.net
SUMMARY:TRAP Night
DESCRIPTION:Join our experienced Trap shooters for weekly practice to keep your skills sharp or prepare for the next Trap competition event. \nShooters attending must have their own gun\, eye & ear protection\, have experience shooting Trap and understand proper Trap etiquette. \nPractice starts at 4:00pm and ends at 6:00pm. \nIf you are new to Trap shooting you can join us on the 2nd Sunday of each  month to attend our ‘Shotgun for Beginners’ class to learn shotgun handling and Trap shooting etiquette. \nIf  you have any questions you can contact us at: Trap@ridgedale.net.
URL:https://ridgedale.net/event/trap-practice-night/2026-03-03/
LOCATION:Shotgun Range
CATEGORIES:Shotgun
ORGANIZER;CN="Trap Club":MAILTO:trap@ridgedale.net
END:VEVENT
BEGIN:VEVENT
DTSTART;TZID=America/Vancouver:20260304T080000
DTEND;TZID=America/Vancouver:20260304T140000
DTSTAMP:20260424T023800
CREATED:20251121T043828Z
LAST-MODIFIED:20260304T220017Z
UID:10002980-1772611200-1772632800@ridgedale.net
SUMMARY:(A) Pistol/Trap Range - CLOSED
DESCRIPTION:
URL:https://ridgedale.net/event/a-pistol-trap-range-closed-20/
LOCATION:Ridgedale Rod & Gun Club\, 35655 Harris Road\, Abbotsford\, British Columbia\, V3G 1R7\, Canada
CATEGORIES:Range Closure
END:VEVENT
BEGIN:VEVENT
DTSTART;TZID=America/Vancouver:20260304T103000
DTEND;TZID=America/Vancouver:20260304T183000
DTSTAMP:20260424T023800
CREATED:20260129T225027Z
LAST-MODIFIED:20260129T225354Z
UID:10003682-1772620200-1772649000@ridgedale.net
SUMMARY:OFFICE OPEN
DESCRIPTION:
URL:https://ridgedale.net/event/office-open-53/
LOCATION:Ridgedale Rod & Gun Club\, 35655 Harris Road\, Abbotsford\, British Columbia\, V3G 1R7\, Canada
END:VEVENT
BEGIN:VEVENT
DTSTART;TZID=America/Vancouver:20260304T190000
DTEND;TZID=America/Vancouver:20260304T210000
DTSTAMP:20260424T023800
CREATED:20251119T204649Z
LAST-MODIFIED:20251121T205732Z
UID:10002282-1772650800-1772658000@ridgedale.net
SUMMARY:EXECUTIVE MEETING - All Ranges Closed
DESCRIPTION:
URL:https://ridgedale.net/event/executive-meeting-all-ranges-closed/2026-03-04/
LOCATION:Ridgedale Rod & Gun Club\, 35655 Harris Road\, Abbotsford\, British Columbia\, V3G 1R7\, Canada
CATEGORIES:Range Closure
END:VEVENT
BEGIN:VEVENT
DTSTART;TZID=America/Vancouver:20260305T080000
DTEND;TZID=America/Vancouver:20260305T150000
DTSTAMP:20260424T023800
CREATED:20251121T043842Z
LAST-MODIFIED:20251121T043842Z
UID:10002981-1772697600-1772722800@ridgedale.net
SUMMARY:(A) Pistol/Trap Range - CLOSED
DESCRIPTION:
URL:https://ridgedale.net/event/a-pistol-trap-range-closed-21/
LOCATION:Ridgedale Rod & Gun Club\, 35655 Harris Road\, Abbotsford\, British Columbia\, V3G 1R7\, Canada
CATEGORIES:Range Closure
END:VEVENT
BEGIN:VEVENT
DTSTART;TZID=America/Vancouver:20260305T080000
DTEND;TZID=America/Vancouver:20260305T170000
DTSTAMP:20260424T023800
CREATED:20260305T210904Z
LAST-MODIFIED:20260305T210904Z
UID:10004289-1772697600-1772730000@ridgedale.net
SUMMARY:Rifle Range - CLOSED
DESCRIPTION:
URL:https://ridgedale.net/event/rifle-range-closed-4/
LOCATION:Ridgedale Rod & Gun Club\, 35655 Harris Road\, Abbotsford\, British Columbia\, V3G 1R7\, Canada
CATEGORIES:Pistol,Range Closure
END:VEVENT
BEGIN:VEVENT
DTSTART;TZID=America/Vancouver:20260305T103000
DTEND;TZID=America/Vancouver:20260305T173000
DTSTAMP:20260424T023800
CREATED:20260129T225039Z
LAST-MODIFIED:20260129T225039Z
UID:10003683-1772706600-1772731800@ridgedale.net
SUMMARY:OFFICE OPEN
DESCRIPTION:
URL:https://ridgedale.net/event/office-open-54/
LOCATION:Ridgedale Rod & Gun Club\, 35655 Harris Road\, Abbotsford\, British Columbia\, V3G 1R7\, Canada
END:VEVENT
BEGIN:VEVENT
DTSTART;TZID=America/Vancouver:20260306T080000
DTEND;TZID=America/Vancouver:20260306T170000
DTSTAMP:20260424T023800
CREATED:20260306T222355Z
LAST-MODIFIED:20260306T222355Z
UID:10004321-1772784000-1772816400@ridgedale.net
SUMMARY:Rifle/Pistol/Trap Ranges - CLOSED
DESCRIPTION:
URL:https://ridgedale.net/event/rifle-pistol-trap-ranges-closed-9/
LOCATION:Ridgedale Rod & Gun Club\, 35655 Harris Road\, Abbotsford\, British Columbia\, V3G 1R7\, Canada
CATEGORIES:Black Powder,Pistol,Range Closure,Rifle,Shotgun
END:VEVENT
BEGIN:VEVENT
DTSTART;TZID=America/Vancouver:20260306T103000
DTEND;TZID=America/Vancouver:20260306T173000
DTSTAMP:20260424T023800
CREATED:20260129T225049Z
LAST-MODIFIED:20260129T225049Z
UID:10003684-1772793000-1772818200@ridgedale.net
SUMMARY:OFFICE OPEN
DESCRIPTION:
URL:https://ridgedale.net/event/office-open-55/
LOCATION:Ridgedale Rod & Gun Club\, 35655 Harris Road\, Abbotsford\, British Columbia\, V3G 1R7\, Canada
END:VEVENT
BEGIN:VEVENT
DTSTART;TZID=America/Vancouver:20260307T090000
DTEND;TZID=America/Vancouver:20260307T120000
DTSTAMP:20260424T023800
CREATED:20260129T224855Z
LAST-MODIFIED:20260129T224855Z
UID:10003679-1772874000-1772884800@ridgedale.net
SUMMARY:OFFICE OPEN
DESCRIPTION:
URL:https://ridgedale.net/event/office-open-50/
LOCATION:Ridgedale Rod & Gun Club\, 35655 Harris Road\, Abbotsford\, British Columbia\, V3G 1R7\, Canada
END:VEVENT
BEGIN:VEVENT
DTSTART;TZID=America/Vancouver:20260307T090000
DTEND;TZID=America/Vancouver:20260307T210000
DTSTAMP:20260424T023800
CREATED:20251122T011826Z
LAST-MODIFIED:20260307T202410Z
UID:10003502-1772874000-1772917200@ridgedale.net
SUMMARY:RANGES CLOSED
DESCRIPTION:All Ranges Closed For New Member Orientation. Ranges Will Open After Completion Of Orientation.
URL:https://ridgedale.net/event/ranges-closed-4/
LOCATION:Ridgedale Rod & Gun Club\, 35655 Harris Road\, Abbotsford\, British Columbia\, V3G 1R7\, Canada
END:VEVENT
BEGIN:VEVENT
DTSTART;TZID=America/Vancouver:20260307T093000
DTEND;TZID=America/Vancouver:20260307T110000
DTSTAMP:20260424T023800
CREATED:20251122T004249Z
LAST-MODIFIED:20260225T205914Z
UID:10003473-1772875800-1772881200@ridgedale.net
SUMMARY:New Member Orientation
DESCRIPTION:You Must Be Registered For Orientation By The Director Of Membership.
URL:https://ridgedale.net/event/new-member-orientation-4/
LOCATION:Ridgedale Rod & Gun Club\, 35655 Harris Road\, Abbotsford\, British Columbia\, V3G 1R7\, Canada
END:VEVENT
BEGIN:VEVENT
DTSTART;TZID=America/Vancouver:20260307T110000
DTEND;TZID=America/Vancouver:20260307T210000
DTSTAMP:20260424T023800
CREATED:20260307T191101Z
LAST-MODIFIED:20260307T202336Z
UID:10004324-1772881200-1772917200@ridgedale.net
SUMMARY:RIFLE/PISTOL/TRAP RANGES - CLOSED
DESCRIPTION:
URL:https://ridgedale.net/event/rifle-pistol-trap-ranges-closed-11/
LOCATION:Ridgedale Rod & Gun Club\, 35655 Harris Road\, Abbotsford\, British Columbia\, V3G 1R7\, Canada
CATEGORIES:Pistol,Range Closure,Rifle,Shotgun
END:VEVENT
BEGIN:VEVENT
DTSTART;TZID=America/Vancouver:20260307T180000
DTEND;TZID=America/Vancouver:20260307T220000
DTSTAMP:20260424T023800
CREATED:20260205T221652Z
LAST-MODIFIED:20260205T223120Z
UID:10003701-1772906400-1772920800@ridgedale.net
SUMMARY:Wild Game Tasting Dinner
DESCRIPTION:
URL:https://ridgedale.net/event/wild-game-tasting-dinner/
LOCATION:Ridgedale Rod & Gun Club\, 35655 Harris Road\, Abbotsford\, British Columbia\, V3G 1R7\, Canada
END:VEVENT
BEGIN:VEVENT
DTSTART;TZID=America/Vancouver:20260308T073000
DTEND;TZID=America/Vancouver:20260308T160000
DTSTAMP:20260424T023800
CREATED:20260206T214246Z
LAST-MODIFIED:20260206T214328Z
UID:10003705-1772955000-1772985600@ridgedale.net
SUMMARY:SPRING BEAR ARCHERY SHOOT
DESCRIPTION:
URL:https://ridgedale.net/event/spring-bear-archery-shoot/
LOCATION:Ridgedale Rod & Gun Club\, 35655 Harris Road\, Abbotsford\, British Columbia\, V3G 1R7\, Canada
CATEGORIES:Archery
END:VEVENT
BEGIN:VEVENT
DTSTART;TZID=America/Vancouver:20260308T080000
DTEND;TZID=America/Vancouver:20260308T160000
DTSTAMP:20260424T023800
CREATED:20251121T210434Z
LAST-MODIFIED:20260307T180022Z
UID:10003188-1772956800-1772985600@ridgedale.net
SUMMARY:Rifle/Pistol/Trap Ranges - CLOSED
DESCRIPTION:
URL:https://ridgedale.net/event/rifle-pistol-trap-ranges-closed-2/
LOCATION:Ridgedale Rod & Gun Club\, 35655 Harris Road\, Abbotsford\, British Columbia\, V3G 1R7\, Canada
CATEGORIES:Pistol,Range Closure,Rifle,Shotgun
END:VEVENT
BEGIN:VEVENT
DTSTART;TZID=America/Vancouver:20260308T080000
DTEND;TZID=America/Vancouver:20260308T200000
DTSTAMP:20260424T023800
CREATED:20260206T213845Z
LAST-MODIFIED:20260206T213845Z
UID:10003704-1772956800-1773000000@ridgedale.net
SUMMARY:NO BEGINNER DAY
DESCRIPTION:
URL:https://ridgedale.net/event/no-beginner-day/
LOCATION:Ridgedale Rod & Gun Club\, 35655 Harris Road\, Abbotsford\, British Columbia\, V3G 1R7\, Canada
CATEGORIES:Range Closure
END:VEVENT
BEGIN:VEVENT
DTSTART;TZID=America/Vancouver:20260308T090000
DTEND;TZID=America/Vancouver:20260308T130000
DTSTAMP:20260424T023800
CREATED:20260129T224622Z
LAST-MODIFIED:20260129T224622Z
UID:10003673-1772960400-1772974800@ridgedale.net
SUMMARY:OFFICE OPEN
DESCRIPTION:
URL:https://ridgedale.net/event/office-open-49/
LOCATION:Ridgedale Rod & Gun Club\, 35655 Harris Road\, Abbotsford\, British Columbia\, V3G 1R7\, Canada
END:VEVENT
BEGIN:VEVENT
DTSTART;TZID=America/Vancouver:20260309T080000
DTEND;TZID=America/Vancouver:20260309T150000
DTSTAMP:20260424T023800
CREATED:20260218T011308Z
LAST-MODIFIED:20260218T011308Z
UID:10003717-1773043200-1773068400@ridgedale.net
SUMMARY:V) Pistol/Trap Range - CLOSED
DESCRIPTION:
URL:https://ridgedale.net/event/v-pistol-trap-range-closed-20/
LOCATION:Ridgedale Rod & Gun Club\, 35655 Harris Road\, Abbotsford\, British Columbia\, V3G 1R7\, Canada
CATEGORIES:Pistol,Range Closure,Shotgun
END:VEVENT
BEGIN:VEVENT
DTSTART;TZID=America/Vancouver:20260309T080000
DTEND;TZID=America/Vancouver:20260309T200000
DTSTAMP:20260424T023800
CREATED:20260129T224714Z
LAST-MODIFIED:20260129T224714Z
UID:10003675-1773043200-1773086400@ridgedale.net
SUMMARY:OFFICE CLOSED
DESCRIPTION:
URL:https://ridgedale.net/event/office-closed-35/
LOCATION:Ridgedale Rod & Gun Club\, 35655 Harris Road\, Abbotsford\, British Columbia\, V3G 1R7\, Canada
END:VEVENT
BEGIN:VEVENT
DTSTART;TZID=America/Vancouver:20260309T180000
DTEND;TZID=America/Vancouver:20260309T200000
DTSTAMP:20260424T023800
CREATED:20251022T032446Z
LAST-MODIFIED:20251124T175558Z
UID:10001441-1773079200-1773086400@ridgedale.net
SUMMARY:PISTOL Night
DESCRIPTION:Join us on PISTOL Night every Monday evening from 6:00pm to 8:00pm \nMembers and non-members are welcome – no PAL or RPAL is required to join us! \nMembers can bring their pistols (all calibers) from .22LR to .45ACP are welcome. \nEntry and targets – $20\nPistol rental available – $10\n.22LR ammo available – $10 per 50 rounds. \nFor more  information contact us at pistol@ridgedale.net
URL:https://ridgedale.net/event/pistol-night/2026-03-09/
LOCATION:Pistol Range
CATEGORIES:Pistol
ORGANIZER;CN="Pistol Club":MAILTO:pistol@ridgedale.net
END:VEVENT
BEGIN:VEVENT
DTSTART;TZID=America/Vancouver:20260310T080000
DTEND;TZID=America/Vancouver:20260310T150000
DTSTAMP:20260424T023800
CREATED:20251217T182930Z
LAST-MODIFIED:20251217T182930Z
UID:10003578-1773129600-1773154800@ridgedale.net
SUMMARY:(A) Pistol/Trap Range - CLOSED
DESCRIPTION:
URL:https://ridgedale.net/event/a-pistol-trap-range-closed-60/
LOCATION:Ridgedale Rod & Gun Club\, 35655 Harris Road\, Abbotsford\, British Columbia\, V3G 1R7\, Canada
CATEGORIES:Range Closure
END:VEVENT
END:VCALENDAR